BEGIN:VCALENDAR
VERSION:2.0
PRODID:-//Titirangi RSA - ECPv6.15.20//NONSGML v1.0//EN
CALSCALE:GREGORIAN
METHOD:PUBLISH
X-ORIGINAL-URL:https://titirangirsa.co.nz
X-WR-CALDESC:Events for Titirangi RSA
REFRESH-INTERVAL;VALUE=DURATION:PT1H
X-Robots-Tag:noindex
X-PUBLISHED-TTL:PT1H
BEGIN:VTIMEZONE
TZID:Pacific/Auckland
BEGIN:STANDARD
TZOFFSETFROM:+1300
TZOFFSETTO:+1200
TZNAME:NZST
DTSTART:20250405T140000
END:STANDARD
BEGIN:DAYLIGHT
TZOFFSETFROM:+1200
TZOFFSETTO:+1300
TZNAME:NZDT
DTSTART:20250927T140000
END:DAYLIGHT
BEGIN:STANDARD
TZOFFSETFROM:+1300
TZOFFSETTO:+1200
TZNAME:NZST
DTSTART:20260404T140000
END:STANDARD
BEGIN:DAYLIGHT
TZOFFSETFROM:+1200
TZOFFSETTO:+1300
TZNAME:NZDT
DTSTART:20260926T140000
END:DAYLIGHT
BEGIN:STANDARD
TZOFFSETFROM:+1300
TZOFFSETTO:+1200
TZNAME:NZST
DTSTART:20270403T140000
END:STANDARD
BEGIN:DAYLIGHT
TZOFFSETFROM:+1200
TZOFFSETTO:+1300
TZNAME:NZDT
DTSTART:20270925T140000
END:DAYLIGHT
END:VTIMEZONE
BEGIN:VEVENT
DTSTART;TZID=Pacific/Auckland:20260213T203000
DTEND;TZID=Pacific/Auckland:20260213T233000
DTSTAMP:20260423T042709
CREATED:20260115T005217Z
LAST-MODIFIED:20260115T010047Z
UID:3862-1771014600-1771025400@titirangirsa.co.nz
SUMMARY:5 Wheel Drive
DESCRIPTION:Five Wheel Drive is hitting the stage with a powerhouse live show that delivers wall-to-wall rock anthems and crowd-pleasing classics. With core members who’ve been playing together for over 10 years\, this tight\, high-energy covers band knows exactly how to get a room moving. \nExpect three hours of nonstop rock featuring hits from Blink-182\, Foo Fighters\, Green Day\, The Killers\, Arctic Monkeys\, Muse\, Shihad\, Jet\, The Black Keys\, and more. From sing-along favourites to full-throttle rock bangers\, Five Wheel Drive brings the soundtrack that keeps the dance floor packed all night. \nWith a strong local following and a reputation for electric live performances\, their shows are always loud\, fun\, and unforgettable. If you love big choruses\, air-guitar moments\, and a proper live rock atmosphere — this is a gig you don’t want to miss. \n🎸 Rock covers. Massive sound. Killer night out.🎟️ Get your tickets now and rock out with Five Wheel Drive!
URL:https://titirangirsa.co.nz/event/5-wheel-drive/
LOCATION:Venue:\, 502 South Titirangi Road\, Auckland\, New Zealand
CATEGORIES:Music
ATTACH;FMTTYPE=image/jpeg:https://titirangirsa.co.nz/wp-content/uploads/2026/01/5-Wheel-Drive-2026.jpg
ORGANIZER;CN="Titirangi RSA":MAILTO:office@titirangirsa.co.nz
END:VEVENT
END:VCALENDAR