BEGIN:VCALENDAR
VERSION:2.0
PRODID:-//Titirangi RSA - ECPv6.15.20//NONSGML v1.0//EN
CALSCALE:GREGORIAN
METHOD:PUBLISH
X-WR-CALNAME:Titirangi RSA
X-ORIGINAL-URL:https://titirangirsa.co.nz
X-WR-CALDESC:Events for Titirangi RSA
REFRESH-INTERVAL;VALUE=DURATION:PT1H
X-Robots-Tag:noindex
X-PUBLISHED-TTL:PT1H
BEGIN:VTIMEZONE
TZID:Pacific/Auckland
BEGIN:STANDARD
TZOFFSETFROM:+1300
TZOFFSETTO:+1200
TZNAME:NZST
DTSTART:20250405T140000
END:STANDARD
BEGIN:DAYLIGHT
TZOFFSETFROM:+1200
TZOFFSETTO:+1300
TZNAME:NZDT
DTSTART:20250927T140000
END:DAYLIGHT
BEGIN:STANDARD
TZOFFSETFROM:+1300
TZOFFSETTO:+1200
TZNAME:NZST
DTSTART:20260404T140000
END:STANDARD
BEGIN:DAYLIGHT
TZOFFSETFROM:+1200
TZOFFSETTO:+1300
TZNAME:NZDT
DTSTART:20260926T140000
END:DAYLIGHT
BEGIN:STANDARD
TZOFFSETFROM:+1300
TZOFFSETTO:+1200
TZNAME:NZST
DTSTART:20270403T140000
END:STANDARD
BEGIN:DAYLIGHT
TZOFFSETFROM:+1200
TZOFFSETTO:+1300
TZNAME:NZDT
DTSTART:20270925T140000
END:DAYLIGHT
END:VTIMEZONE
BEGIN:VEVENT
DTSTART;TZID=Pacific/Auckland:20260317T190000
DTEND;TZID=Pacific/Auckland:20260317T220000
DTSTAMP:20260420T222833
CREATED:20260305T222546Z
LAST-MODIFIED:20260305T222721Z
UID:3886-1773774000-1773784800@titirangirsa.co.nz
SUMMARY:St Patrick's Quiz Night
DESCRIPTION:Join us Every Tuesday night for Quiz Night \nBe sure to book as tables fill fast
URL:https://titirangirsa.co.nz/event/st-patricks-quiz-night/
LOCATION:Venue:\, 502 South Titirangi Road\, Auckland\, New Zealand
CATEGORIES:Quiz Night,Special Event
ATTACH;FMTTYPE=image/jpeg:https://titirangirsa.co.nz/wp-content/uploads/2026/03/St-Patricks-Day-2026.jpg
ORGANIZER;CN="Titirangi RSA":MAILTO:office@titirangirsa.co.nz
END:VEVENT
END:VCALENDAR